BEGIN:VCALENDAR
VERSION:2.0
PRODID:-//Teamsters AGC Training - ECPv6.15.20//NONSGML v1.0//EN
CALSCALE:GREGORIAN
METHOD:PUBLISH
X-WR-CALNAME:Teamsters AGC Training
X-ORIGINAL-URL:https://teamsterstraining.org
X-WR-CALDESC:Events for Teamsters AGC Training
REFRESH-INTERVAL;VALUE=DURATION:PT1H
X-Robots-Tag:noindex
X-PUBLISHED-TTL:PT1H
BEGIN:VTIMEZONE
TZID:America/Los_Angeles
BEGIN:DAYLIGHT
TZOFFSETFROM:-0800
TZOFFSETTO:-0700
TZNAME:PDT
DTSTART:20240310T100000
END:DAYLIGHT
BEGIN:STANDARD
TZOFFSETFROM:-0700
TZOFFSETTO:-0800
TZNAME:PST
DTSTART:20241103T090000
END:STANDARD
BEGIN:DAYLIGHT
TZOFFSETFROM:-0800
TZOFFSETTO:-0700
TZNAME:PDT
DTSTART:20250309T100000
END:DAYLIGHT
BEGIN:STANDARD
TZOFFSETFROM:-0700
TZOFFSETTO:-0800
TZNAME:PST
DTSTART:20251102T090000
END:STANDARD
BEGIN:DAYLIGHT
TZOFFSETFROM:-0800
TZOFFSETTO:-0700
TZNAME:PDT
DTSTART:20260308T100000
END:DAYLIGHT
BEGIN:STANDARD
TZOFFSETFROM:-0700
TZOFFSETTO:-0800
TZNAME:PST
DTSTART:20261101T090000
END:STANDARD
END:VTIMEZONE
BEGIN:VEVENT
DTSTART;TZID=America/Los_Angeles:20250201T070000
DTEND;TZID=America/Los_Angeles:20250201T160000
DTSTAMP:20260422T030547
CREATED:20250106T230601Z
LAST-MODIFIED:20250106T230601Z
UID:918-1738393200-1738425600@teamsterstraining.org
SUMMARY:HAZ-8 Ref. Section-1542: 2/1/25 7:00 AM PST (In-Person)
DESCRIPTION:This course satisfies the requirements for annual refresher training for hazardous waste site workers. The course covers the material required in OSHA 1910.120 and complies with the NIEHS Minimum Criteria. Topics covered include personal protective equipment\, regulatory revisions\, new equipment and procedures\, and lessons learned from incidents at hazardous waste sites. \n  \nThis class is provided by: Washington-Idaho Teamsters AGC \nDate: February 1\, 2025 \nTime: 7:00 AM – 4:00 PM PST \nLocation:\nTeamsters Local Union 174\n14675 Interurban Ave. South\nTukwila\, WA 98168 \nRegister Here!
URL:https://teamsterstraining.org/class/haz-8-ref-section-1542-2-1-25-700-am-pst-in-person/
CATEGORIES:Tukwila
END:VEVENT
END:VCALENDAR